BEGIN:VCALENDAR
VERSION:2.0
PRODID:SchoolNow
CALSCALE:GREGORIAN
BEGIN:VEVENT
UID:15c26b0c-d6f1-11f0-b776-0a58a9feac02
DTSTAMP:20260424T115508Z
SUMMARY:D/C/JV/V Boys Basketball @ Eisenhower
URL;VALUE=URI:https://www.wenatcheeschools.org/whs/athletics/calendar/88226
 19/d-c-jv-v-boys-basketball-eisenhower
DTSTART:20260110T000000Z
DTEND:20260110T043000Z
END:VEVENT
END:VCALENDAR
