BEGIN:VCALENDAR
VERSION:2.0
PRODID:SchoolNow
CALSCALE:GREGORIAN
BEGIN:VEVENT
UID:15c26bfc-d6f1-11f0-b907-0a58a9feac02
DTSTAMP:20260424T115508Z
SUMMARY:Boys Swimming VS Eisenhower
URL;VALUE=URI:https://www.wenatcheeschools.org/whs/athletics/calendar/88226
 20/boys-swimming-vs-eisenhower
DTSTART:20260116T003000Z
DTEND:20260116T033000Z
END:VEVENT
END:VCALENDAR
