BEGIN:VCALENDAR
VERSION:2.0
PRODID:SchoolNow
CALSCALE:GREGORIAN
BEGIN:VEVENT
UID:15c26e68-d6f1-11f0-bdef-0a58a9feac02
DTSTAMP:20260424T115508Z
SUMMARY:JV/V Girls Wrestling VS Moses Lake
URL;VALUE=URI:https://www.wenatcheeschools.org/whs/athletics/calendar/88226
 22/jv-v-girls-wrestling-vs-moses-lake
DTSTART:20260116T010000Z
DTEND:20260116T040000Z
END:VEVENT
END:VCALENDAR
