BEGIN:VCALENDAR
VERSION:2.0
PRODID:SchoolNow
CALSCALE:GREGORIAN
BEGIN:VEVENT
UID:15c26fe4-d6f1-11f0-aee1-0a58a9feac02
DTSTAMP:20260424T115508Z
SUMMARY:C Girls Basketball @ Quincy
URL;VALUE=URI:https://www.wenatcheeschools.org/whs/athletics/calendar/88226
 23/c-girls-basketball-quincy
DTSTART:20260111T010000Z
DTEND:20260111T023000Z
END:VEVENT
END:VCALENDAR
