BEGIN:VCALENDAR
VERSION:2.0
PRODID:SchoolNow
CALSCALE:GREGORIAN
BEGIN:VEVENT
UID:15c27138-d6f1-11f0-bb8b-0a58a9feac02
DTSTAMP:20260424T115508Z
SUMMARY:Bowling VS Eastmont
URL;VALUE=URI:https://www.wenatcheeschools.org/whs/athletics/calendar/88226
 24/bowling-vs-eastmont
DTSTART:20260107T220000Z
DTEND:20260108T010000Z
END:VEVENT
END:VCALENDAR
