BEGIN:VCALENDAR
VERSION:2.0
PRODID:SchoolNow
CALSCALE:GREGORIAN
BEGIN:VEVENT
UID:15c27228-d6f1-11f0-810d-0a58a9feac02
DTSTAMP:20260424T115508Z
SUMMARY:JV/V Girls Wrestling @ AC Davis
URL;VALUE=URI:https://www.wenatcheeschools.org/whs/athletics/calendar/88226
 25/jv-v-girls-wrestling-ac-davis
DTSTART:20260109T020000Z
DTEND:20260109T040000Z
END:VEVENT
END:VCALENDAR
