BEGIN:VCALENDAR
VERSION:2.0
PRODID:SchoolNow
CALSCALE:GREGORIAN
BEGIN:VEVENT
UID:15c273c2-d6f1-11f0-ba51-0a58a9feac02
DTSTAMP:20260424T115508Z
SUMMARY:C/JV/V Girls Basketball @ Eastmont
URL;VALUE=URI:https://www.wenatcheeschools.org/whs/athletics/calendar/88226
 26/c-jv-v-girls-basketball-eastmont
DTSTART:20260117T230000Z
DTEND:20260118T033000Z
END:VEVENT
END:VCALENDAR
