BEGIN:VCALENDAR
VERSION:2.0
PRODID:SchoolNow
CALSCALE:GREGORIAN
BEGIN:VEVENT
UID:15c2750c-d6f1-11f0-903f-0a58a9feac02
DTSTAMP:20260424T115508Z
SUMMARY:Boys Swim @ Eastmont
URL;VALUE=URI:https://www.wenatcheeschools.org/whs/athletics/calendar/88226
 27/boys-swim-eastmont
DTSTART:20260108T000000Z
DTEND:20260108T020000Z
END:VEVENT
END:VCALENDAR
