BEGIN:VCALENDAR
VERSION:2.0
PRODID:SchoolNow
CALSCALE:GREGORIAN
BEGIN:VEVENT
UID:15c2764c-d6f1-11f0-be8c-0a58a9feac02
DTSTAMP:20260424T115508Z
SUMMARY:V Girls Wrestling @ AC Davis
URL;VALUE=URI:https://www.wenatcheeschools.org/whs/athletics/calendar/88226
 28/v-girls-wrestling-ac-davis
DTSTART:20260117T170000Z
DTEND:20260117T190000Z
END:VEVENT
END:VCALENDAR
