BEGIN:VCALENDAR
VERSION:2.0
PRODID:SchoolNow
CALSCALE:GREGORIAN
BEGIN:VEVENT
UID:15c27778-d6f1-11f0-9abb-0a58a9feac02
DTSTAMP:20260424T115508Z
SUMMARY:Bowling VS Eisenhower
URL;VALUE=URI:https://www.wenatcheeschools.org/whs/athletics/calendar/88226
 29/bowling-vs-eisenhower
DTSTART:20260113T220000Z
DTEND:20260114T010000Z
END:VEVENT
END:VCALENDAR
