BEGIN:VCALENDAR
VERSION:2.0
PRODID:SchoolNow
CALSCALE:GREGORIAN
BEGIN:VEVENT
UID:15c278cc-d6f1-11f0-94b6-0a58a9feac02
DTSTAMP:20260424T115508Z
SUMMARY:C Boys Basketball @ Quincy
URL;VALUE=URI:https://www.wenatcheeschools.org/whs/athletics/calendar/88226
 30/c-boys-basketball-quincy
DTSTART:20260110T233000Z
DTEND:20260111T010000Z
END:VEVENT
END:VCALENDAR
