BEGIN:VCALENDAR
VERSION:2.0
PRODID:SchoolNow
CALSCALE:GREGORIAN
BEGIN:VEVENT
UID:eafd31d0-da20-11f0-ad02-0a58a9feac02
DTSTAMP:20260424T115508Z
SUMMARY:D/C/JV/V Boys Basketball @ Sunnyside
URL;VALUE=URI:https://www.wenatcheeschools.org/whs/athletics/calendar/88247
 07/d-c-jv-v-boys-basketball-sunnyside
DTSTART:20260131T230000Z
DTEND:20260201T033000Z
END:VEVENT
END:VCALENDAR
