BEGIN:VCALENDAR
VERSION:2.0
PRODID:SchoolNow
CALSCALE:GREGORIAN
BEGIN:VEVENT
UID:eafd3522-da20-11f0-9ae2-0a58a9feac02
DTSTAMP:20260424T115508Z
SUMMARY:D/C/JV/V Boys Basketball VS Moses Lake
URL;VALUE=URI:https://www.wenatcheeschools.org/whs/athletics/calendar/88247
 08/d-c-jv-v-boys-basketball-vs-moses-lake
DTSTART:20260124T230000Z
DTEND:20260125T030000Z
END:VEVENT
END:VCALENDAR
