BEGIN:VCALENDAR
VERSION:2.0
PRODID:SchoolNow
CALSCALE:GREGORIAN
BEGIN:VEVENT
UID:eafd3676-da20-11f0-a930-0a58a9feac02
DTSTAMP:20260424T115508Z
SUMMARY:C/JV/V Girls Basketball @ West Valley
URL;VALUE=URI:https://www.wenatcheeschools.org/whs/athletics/calendar/88247
 09/c-jv-v-girls-basketball-west-valley
DTSTART:20260208T033000Z
DTEND:20260208T043000Z
END:VEVENT
END:VCALENDAR
