BEGIN:VCALENDAR
VERSION:2.0
PRODID:SchoolNow
CALSCALE:GREGORIAN
BEGIN:VEVENT
UID:eafd37b6-da20-11f0-93c1-0a58a9feac02
DTSTAMP:20260424T115508Z
SUMMARY:Boys Swimming @ Moses Lake
URL;VALUE=URI:https://www.wenatcheeschools.org/whs/athletics/calendar/88247
 10/boys-swimming-moses-lake
DTSTART:20260207T190000Z
DTEND:20260207T230000Z
END:VEVENT
END:VCALENDAR
