BEGIN:VCALENDAR
VERSION:2.0
PRODID:SchoolNow
CALSCALE:GREGORIAN
BEGIN:VEVENT
UID:eafd38e2-da20-11f0-a2e0-0a58a9feac02
DTSTAMP:20260424T115508Z
SUMMARY:Bowling @ Moses Lake
URL;VALUE=URI:https://www.wenatcheeschools.org/whs/athletics/calendar/88247
 11/bowling-moses-lake
DTSTART:20260130T180000Z
DTEND:20260130T223000Z
END:VEVENT
END:VCALENDAR
