BEGIN:VCALENDAR
VERSION:2.0
PRODID:SchoolNow
CALSCALE:GREGORIAN
BEGIN:VEVENT
UID:eafd39f0-da20-11f0-923d-0a58a9feac02
DTSTAMP:20260424T115508Z
SUMMARY:C/JV/V Girls Basketball VS AC Davis
URL;VALUE=URI:https://www.wenatcheeschools.org/whs/athletics/calendar/88247
 12/c-jv-v-girls-basketball-vs-ac-davis
DTSTART:20260124T000000Z
DTEND:20260124T040000Z
END:VEVENT
END:VCALENDAR
