BEGIN:VCALENDAR
VERSION:2.0
PRODID:SchoolNow
CALSCALE:GREGORIAN
BEGIN:VEVENT
UID:eafd3b3a-da20-11f0-a6d7-0a58a9feac02
DTSTAMP:20260424T115508Z
SUMMARY:C/JV/V Girls Basketball @ AC Davis
URL;VALUE=URI:https://www.wenatcheeschools.org/whs/athletics/calendar/88247
 13/c-jv-v-girls-basketball-ac-davis
DTSTART:20260214T000000Z
DTEND:20260214T043000Z
END:VEVENT
END:VCALENDAR
