BEGIN:VCALENDAR
VERSION:2.0
PRODID:SchoolNow
CALSCALE:GREGORIAN
BEGIN:VEVENT
UID:eafd3c3e-da20-11f0-a342-0a58a9feac02
DTSTAMP:20260424T115508Z
SUMMARY:C/JV/V Boys Basketball @ West Valley
URL;VALUE=URI:https://www.wenatcheeschools.org/whs/athletics/calendar/88247
 14/c-jv-v-boys-basketball-west-valley
DTSTART:20260208T033000Z
DTEND:20260208T043000Z
END:VEVENT
END:VCALENDAR
