BEGIN:VCALENDAR
VERSION:2.0
PRODID:SchoolNow
CALSCALE:GREGORIAN
BEGIN:VEVENT
UID:eafd3d42-da20-11f0-84bd-0a58a9feac02
DTSTAMP:20260424T115508Z
SUMMARY:JV/V Boys Wrestling VS Eastmont
URL;VALUE=URI:https://www.wenatcheeschools.org/whs/athletics/calendar/88247
 15/jv-v-boys-wrestling-vs-eastmont
DTSTART:20260130T020000Z
DTEND:20260130T050000Z
END:VEVENT
END:VCALENDAR
