BEGIN:VCALENDAR
VERSION:2.0
PRODID:SchoolNow
CALSCALE:GREGORIAN
BEGIN:VEVENT
UID:eafd3ed2-da20-11f0-a4ac-0a58a9feac02
DTSTAMP:20260424T115508Z
SUMMARY:JV/V Girls Wrestling VS Eastmont
URL;VALUE=URI:https://www.wenatcheeschools.org/whs/athletics/calendar/88247
 16/jv-v-girls-wrestling-vs-eastmont
DTSTART:20260130T010000Z
DTEND:20260130T040000Z
END:VEVENT
END:VCALENDAR
