BEGIN:VCALENDAR
VERSION:2.0
PRODID:SchoolNow
CALSCALE:GREGORIAN
BEGIN:VEVENT
UID:eafd40f8-da20-11f0-b1c7-0a58a9feac02
DTSTAMP:20260424T115508Z
SUMMARY:D/C/JV/V Boys Basketball VS Eisenhower
URL;VALUE=URI:https://www.wenatcheeschools.org/whs/athletics/calendar/88247
 17/d-c-jv-v-boys-basketball-vs-eisenhower
DTSTART:20260207T000000Z
DTEND:20260207T040000Z
END:VEVENT
END:VCALENDAR
