BEGIN:VCALENDAR
VERSION:2.0
PRODID:SchoolNow
CALSCALE:GREGORIAN
BEGIN:VEVENT
UID:eafd4210-da20-11f0-9974-0a58a9feac02
DTSTAMP:20260424T115508Z
SUMMARY:Boys Swimming @ West Valley
URL;VALUE=URI:https://www.wenatcheeschools.org/whs/athletics/calendar/88247
 18/boys-swimming-west-valley
DTSTART:20260123T000000Z
DTEND:20260123T020000Z
END:VEVENT
END:VCALENDAR
