BEGIN:VCALENDAR
VERSION:2.0
PRODID:SchoolNow
CALSCALE:GREGORIAN
BEGIN:VEVENT
UID:eafd4300-da20-11f0-9d13-0a58a9feac02
DTSTAMP:20260424T115508Z
SUMMARY:C Boys Basketball VS Cashmere
URL;VALUE=URI:https://www.wenatcheeschools.org/whs/athletics/calendar/88247
 19/c-boys-basketball-vs-cashmere
DTSTART:20260204T003000Z
DTEND:20260204T020000Z
END:VEVENT
END:VCALENDAR
