BEGIN:VCALENDAR
VERSION:2.0
PRODID:SchoolNow
CALSCALE:GREGORIAN
BEGIN:VEVENT
UID:eafd43e6-da20-11f0-82eb-0a58a9feac02
DTSTAMP:20260424T115508Z
SUMMARY:V Boys Swimming @ Moses Lake
URL;VALUE=URI:https://www.wenatcheeschools.org/whs/athletics/calendar/88247
 20/v-boys-swimming-moses-lake
DTSTART:20260205T190000Z
DTEND:20260205T213000Z
END:VEVENT
END:VCALENDAR
