BEGIN:VCALENDAR
VERSION:2.0
PRODID:SchoolNow
CALSCALE:GREGORIAN
BEGIN:VEVENT
UID:eafd44ea-da20-11f0-b924-0a58a9feac02
DTSTAMP:20260424T115508Z
SUMMARY:C Boys Basketball VS Waterville-Mansfield
URL;VALUE=URI:https://www.wenatcheeschools.org/whs/athletics/calendar/88247
 21/c-boys-basketball-vs-waterville-mansfield
DTSTART:20260128T023000Z
DTEND:20260128T040000Z
END:VEVENT
END:VCALENDAR
