BEGIN:VCALENDAR
VERSION:2.0
PRODID:SchoolNow
CALSCALE:GREGORIAN
BEGIN:VEVENT
UID:eafd45d0-da20-11f0-b375-0a58a9feac02
DTSTAMP:20260424T115508Z
SUMMARY:V Girls Basketball VS Eastmont
URL;VALUE=URI:https://www.wenatcheeschools.org/whs/athletics/calendar/88247
 22/v-girls-basketball-vs-eastmont
DTSTART:20260211T013000Z
DTEND:20260211T030000Z
END:VEVENT
END:VCALENDAR
