BEGIN:VCALENDAR
VERSION:2.0
PRODID:SchoolNow
CALSCALE:GREGORIAN
BEGIN:VEVENT
UID:eafd46ca-da20-11f0-9254-0a58a9feac02
DTSTAMP:20260424T115508Z
SUMMARY:C Girls Basketball VS Waterville-Mansfield
URL;VALUE=URI:https://www.wenatcheeschools.org/whs/athletics/calendar/88247
 23/c-girls-basketball-vs-waterville-mansfield
DTSTART:20260128T013000Z
DTEND:20260128T030000Z
END:VEVENT
END:VCALENDAR
