BEGIN:VCALENDAR
VERSION:2.0
PRODID:SchoolNow
CALSCALE:GREGORIAN
BEGIN:VEVENT
UID:eafd47c4-da20-11f0-9e94-0a58a9feac02
DTSTAMP:20260424T115508Z
SUMMARY:C/JV/V Girls Basketball VS Sultan
URL;VALUE=URI:https://www.wenatcheeschools.org/whs/athletics/calendar/88247
 24/c-jv-v-girls-basketball-vs-sultan
DTSTART:20260131T000000Z
DTEND:20260131T040000Z
END:VEVENT
END:VCALENDAR
