BEGIN:VCALENDAR
VERSION:2.0
PRODID:SchoolNow
CALSCALE:GREGORIAN
BEGIN:VEVENT
UID:eafd497c-da20-11f0-9116-0a58a9feac02
DTSTAMP:20260424T115508Z
SUMMARY:Unified Basketball VS Eastmont
URL;VALUE=URI:https://www.wenatcheeschools.org/whs/athletics/calendar/88247
 25/unified-basketball-vs-eastmont
DTSTART:20260129T013000Z
DTEND:20260129T030000Z
END:VEVENT
END:VCALENDAR
