BEGIN:VCALENDAR
VERSION:2.0
PRODID:SchoolNow
CALSCALE:GREGORIAN
BEGIN:VEVENT
UID:eafd4a62-da20-11f0-8564-0a58a9feac02
DTSTAMP:20260424T115508Z
SUMMARY:Bowling @ Selah
URL;VALUE=URI:https://www.wenatcheeschools.org/whs/athletics/calendar/88247
 26/bowling-selah
DTSTART:20260120T230000Z
DTEND:20260121T010000Z
END:VEVENT
END:VCALENDAR
