BEGIN:VCALENDAR
VERSION:2.0
PRODID:SchoolNow
CALSCALE:GREGORIAN
BEGIN:VEVENT
UID:eafd4d14-da20-11f0-8bb5-0a58a9feac02
DTSTAMP:20260424T115508Z
SUMMARY:JV/V Boys Wrestling @ West Valley
URL;VALUE=URI:https://www.wenatcheeschools.org/whs/athletics/calendar/88247
 27/jv-v-boys-wrestling-west-valley
DTSTART:20260204T020000Z
DTEND:20260204T040000Z
END:VEVENT
END:VCALENDAR
