BEGIN:VCALENDAR
VERSION:2.0
PRODID:SchoolNow
CALSCALE:GREGORIAN
BEGIN:VEVENT
UID:eafd4e5e-da20-11f0-bf94-0a58a9feac02
DTSTAMP:20260424T115508Z
SUMMARY:C/JV/V Girls Basketball @ Sunnyside
URL;VALUE=URI:https://www.wenatcheeschools.org/whs/athletics/calendar/88247
 28/c-jv-v-girls-basketball-sunnyside
DTSTART:20260201T003000Z
DTEND:20260201T033000Z
END:VEVENT
END:VCALENDAR
