BEGIN:VCALENDAR
VERSION:2.0
PRODID:SchoolNow
CALSCALE:GREGORIAN
BEGIN:VEVENT
UID:eafd4f94-da20-11f0-8dde-0a58a9feac02
DTSTAMP:20260424T115508Z
SUMMARY:Bowling VS Sunnyside
URL;VALUE=URI:https://www.wenatcheeschools.org/whs/athletics/calendar/88247
 29/bowling-vs-sunnyside
DTSTART:20260121T220000Z
DTEND:20260122T010000Z
END:VEVENT
END:VCALENDAR
