BEGIN:VCALENDAR
VERSION:2.0
PRODID:SchoolNow
CALSCALE:GREGORIAN
BEGIN:VEVENT
UID:eafd523c-da20-11f0-8fe2-0a58a9feac02
DTSTAMP:20260424T115508Z
SUMMARY:Unified Basketball @ Ephrata
URL;VALUE=URI:https://www.wenatcheeschools.org/whs/athletics/calendar/88247
 31/unified-basketball-ephrata
DTSTART:20260205T020000Z
DTEND:20260205T030000Z
END:VEVENT
END:VCALENDAR
