BEGIN:VCALENDAR
VERSION:2.0
PRODID:SchoolNow
CALSCALE:GREGORIAN
BEGIN:VEVENT
UID:eafd5476-da20-11f0-8a74-0a58a9feac02
DTSTAMP:20260424T115508Z
SUMMARY:V Girls Wrestling
URL;VALUE=URI:https://www.wenatcheeschools.org/whs/athletics/calendar/88247
 33/v-girls-wrestling
DTSTART:20260204T020000Z
DTEND:20260204T030000Z
END:VEVENT
END:VCALENDAR
