BEGIN:VCALENDAR
VERSION:2.0
PRODID:SchoolNow
CALSCALE:GREGORIAN
BEGIN:VEVENT
UID:eb347f28-da20-11f0-9d93-0a58a9feac02
DTSTAMP:20260424T115508Z
SUMMARY:Boys Swimming @ Moses Lake
URL;VALUE=URI:https://www.wenatcheeschools.org/whs/athletics/calendar/88247
 34/boys-swimming-moses-lake
DTSTART:20260129T190000Z
DTEND:20260129T213000Z
END:VEVENT
END:VCALENDAR
