BEGIN:VCALENDAR
VERSION:2.0
PRODID:SchoolNow
CALSCALE:GREGORIAN
BEGIN:VEVENT
UID:eb348310-da20-11f0-bc54-0a58a9feac02
DTSTAMP:20260424T115508Z
SUMMARY:JV/V Girls Wrestling @ Sunnyside
URL;VALUE=URI:https://www.wenatcheeschools.org/whs/athletics/calendar/88247
 35/jv-v-girls-wrestling-sunnyside
DTSTART:20260123T020000Z
DTEND:20260123T050000Z
END:VEVENT
END:VCALENDAR
