BEGIN:VCALENDAR
VERSION:2.0
PRODID:SchoolNow
CALSCALE:GREGORIAN
BEGIN:VEVENT
UID:eb348518-da20-11f0-9752-0a58a9feac02
DTSTAMP:20260424T115508Z
SUMMARY:C/JV/V Girls Basketball VS Moses Lake
URL;VALUE=URI:https://www.wenatcheeschools.org/whs/athletics/calendar/88247
 36/c-jv-v-girls-basketball-vs-moses-lake
DTSTART:20260124T230000Z
DTEND:20260125T030000Z
END:VEVENT
END:VCALENDAR
