BEGIN:VCALENDAR
VERSION:2.0
PRODID:SchoolNow
CALSCALE:GREGORIAN
BEGIN:VEVENT
UID:eb34864e-da20-11f0-8302-0a58a9feac02
DTSTAMP:20260424T115508Z
SUMMARY:Boys Swimming VS AC Davis
URL;VALUE=URI:https://www.wenatcheeschools.org/whs/athletics/calendar/88247
 37/boys-swimming-vs-ac-davis
DTSTART:20260123T220000Z
DTEND:20260123T230000Z
END:VEVENT
END:VCALENDAR
