BEGIN:VCALENDAR
VERSION:2.0
PRODID:SchoolNow
CALSCALE:GREGORIAN
BEGIN:VEVENT
UID:eb34878e-da20-11f0-a408-0a58a9feac02
DTSTAMP:20260424T115508Z
SUMMARY:C/JV/V Girls Basketball VS Eisenhower
URL;VALUE=URI:https://www.wenatcheeschools.org/whs/athletics/calendar/88247
 38/c-jv-v-girls-basketball-vs-eisenhower
DTSTART:20260207T000000Z
DTEND:20260207T040000Z
END:VEVENT
END:VCALENDAR
