BEGIN:VCALENDAR
VERSION:2.0
PRODID:SchoolNow
CALSCALE:GREGORIAN
BEGIN:VEVENT
UID:eb3488a6-da20-11f0-8a85-0a58a9feac02
DTSTAMP:20260424T115508Z
SUMMARY:D/C/JV/V Boys Basketball VS AC Davis
URL;VALUE=URI:https://www.wenatcheeschools.org/whs/athletics/calendar/88247
 39/d-c-jv-v-boys-basketball-vs-ac-davis
DTSTART:20260124T000000Z
DTEND:20260124T040000Z
END:VEVENT
END:VCALENDAR
