BEGIN:VCALENDAR
VERSION:2.0
PRODID:SchoolNow
CALSCALE:GREGORIAN
BEGIN:VEVENT
UID:eb3489a0-da20-11f0-a478-0a58a9feac02
DTSTAMP:20260424T115508Z
SUMMARY:V Boys Basketball VS Eastmont
URL;VALUE=URI:https://www.wenatcheeschools.org/whs/athletics/calendar/88247
 40/v-boys-basketball-vs-eastmont
DTSTART:20260211T033000Z
DTEND:20260211T050000Z
END:VEVENT
END:VCALENDAR
