BEGIN:VCALENDAR
VERSION:2.0
PRODID:SchoolNow
CALSCALE:GREGORIAN
BEGIN:VEVENT
UID:eb348b30-da20-11f0-b59a-0a58a9feac02
DTSTAMP:20260424T115508Z
SUMMARY:D/C/JV/V Boys Basketball @ AC Davis
URL;VALUE=URI:https://www.wenatcheeschools.org/whs/athletics/calendar/88247
 41/d-c-jv-v-boys-basketball-ac-davis
DTSTART:20260214T000000Z
DTEND:20260214T043000Z
END:VEVENT
END:VCALENDAR
