BEGIN:VCALENDAR
VERSION:2.0
PRODID:SchoolNow
CALSCALE:GREGORIAN
BEGIN:VEVENT
UID:eb348cf2-da20-11f0-9aac-0a58a9feac02
DTSTAMP:20260424T115508Z
SUMMARY:V Boys Wrestling @ Kittitas
URL;VALUE=URI:https://www.wenatcheeschools.org/whs/athletics/calendar/88247
 42/v-boys-wrestling-kittitas
DTSTART:20260124T180000Z
DTEND:20260125T000000Z
END:VEVENT
END:VCALENDAR
