BEGIN:VCALENDAR
VERSION:2.0
PRODID:SchoolNow
CALSCALE:GREGORIAN
BEGIN:VEVENT
UID:d8dcb794-1cc6-11f1-9ad2-0a58a9feac02
DTSTAMP:20260424T115508Z
SUMMARY:D/C/JV Boys Basketball
URL;VALUE=URI:https://www.wenatcheeschools.org/whs/athletics/calendar/89081
 17/d-c-jv-boys-basketball
DTSTART:20260210T003000Z
DTEND:20260210T050000Z
END:VEVENT
END:VCALENDAR
