BEGIN:VCALENDAR
VERSION:2.0
PRODID:SchoolNow
CALSCALE:GREGORIAN
BEGIN:VEVENT
UID:d8dcbbea-1cc6-11f1-bd18-0a58a9feac02
DTSTAMP:20260424T115508Z
SUMMARY:C/JV/V Boys Soccer
URL;VALUE=URI:https://www.wenatcheeschools.org/whs/athletics/calendar/89081
 18/c-jv-v-boys-soccer
DTSTART:20260310T220000Z
DTEND:20260311T020000Z
END:VEVENT
END:VCALENDAR
