BEGIN:VCALENDAR
VERSION:2.0
PRODID:SchoolNow
CALSCALE:GREGORIAN
BEGIN:VEVENT
UID:d8dcbe06-1cc6-11f1-9473-0a58a9feac02
DTSTAMP:20260424T115508Z
SUMMARY:JV/V Baseball VS Eastmont
URL;VALUE=URI:https://www.wenatcheeschools.org/whs/athletics/calendar/89081
 19/jv-v-baseball-vs-eastmont
DTSTART:20260311T220000Z
DTEND:20260312T020000Z
END:VEVENT
END:VCALENDAR
