BEGIN:VCALENDAR
VERSION:2.0
PRODID:SchoolNow
CALSCALE:GREGORIAN
BEGIN:VEVENT
UID:d8dcc0fe-1cc6-11f1-9322-0a58a9feac02
DTSTAMP:20260424T115508Z
SUMMARY:Unified Basketball @ Cashmere
URL;VALUE=URI:https://www.wenatcheeschools.org/whs/athletics/calendar/89081
 20/unified-basketball-cashmere
DTSTART:20260212T020000Z
DTEND:20260212T033000Z
END:VEVENT
END:VCALENDAR
