BEGIN:VCALENDAR
VERSION:2.0
PRODID:SchoolNow
CALSCALE:GREGORIAN
BEGIN:VEVENT
UID:d8dccb76-1cc6-11f1-b016-0a58a9feac02
DTSTAMP:20260424T115508Z
SUMMARY:C/JV Girls Basketball
URL;VALUE=URI:https://www.wenatcheeschools.org/whs/athletics/calendar/89081
 21/c-jv-girls-basketball
DTSTART:20260210T020000Z
DTEND:20260210T063000Z
END:VEVENT
END:VCALENDAR
